BEGIN:VCALENDAR
VERSION:2.0
PRODID:-//hacksw/handcal//NONSGML v1.0//EN
BEGIN:VEVENT
SUMMARY:4eme journee de championnat de D2 Phase 2 Douvres TT 2
UID:bfd3b004-7033-4e20-8306-c14e9fca9b2e
DTSTART:20260409T220000Z
DTEND:20260410T220000Z
LOCATION:Localisation   
CATEGORIES:Sportif
STATUS:
URL;VALUE=URI:https://douvrestennisdetable.sportsregions.fr/evenements/2026/04/10/4eme-journee-de-championnat-de-d2-phase-2-douvres-tt-2-2439903
END:VEVENT
END:VCALENDAR
